BEGIN:VCALENDAR
VERSION:2.0
PRODID:-//hacksw/handcal//NONSGML v1.0//EN
CALSCALE:GREGORIAN
BEGIN:VEVENT
LOCATION: India Expo Center\, Greater Noida
DESCRIPTION:
DTSTART:20231004T070000Z
DTEND:20231006T160000Z
SUMMARY:The Battery Show India 2023
URL;VALUE=URI:https://www.thebatteryshowindia.com/
DTSTAMP:20260403T140924Z
UID:69cfadf41a8f7
END:VEVENT
END:VCALENDAR