BEGIN:VCALENDAR
VERSION:2.0
PRODID:-//hacksw/handcal//NONSGML v1.0//EN
CALSCALE:GREGORIAN
BEGIN:VEVENT
LOCATION:Messe Stuttgart\, Stuttgart\, Germany 
DESCRIPTION:
DTSTART:20250603T080000Z
DTEND:20250605T150000Z
SUMMARY:Battery Show Germany
URL;VALUE=URI:https://www.thebatteryshow.eu/en/Home.html
DTSTAMP:20260424T162813Z
UID:69eb7dfd5194a
END:VEVENT
END:VCALENDAR